BEGIN:VCALENDAR
VERSION:2.0
PRODID:-//InvisionCommunity Events 4.7.24//EN
METHOD:PUBLISH
CALSCALE:GREGORIAN
REFRESH-INTERVAL:PT15M
X-PUBLISHED-TTL:PT15M
X-WR-CALNAME:Community Events
NAME:Community Events
BEGIN:VTIMEZONE
TZID:Europe/London
TZURL:http://tzurl.org/zoneinfo/Europe/London
X-LIC-LOCATION:Europe/London
BEGIN:DAYLIGHT
TZOFFSETFROM:+0000
TZOFFSETTO:+0100
TZNAME:BST
DTSTART:20260329T020000Z
RRULE:FREQ=YEARLY;BYMONTH=3;BYDAY=-1SU
END:DAYLIGHT
BEGIN:STANDARD
TZOFFSETFROM:+0100
TZOFFSETTO:+0000
TZNAME:GMT
DTSTART:20261025T020000Z
RRULE:FREQ=YEARLY;BYMONTH=10;BYDAY=-1SU
END:STANDARD
END:VTIMEZONE
BEGIN:VTIMEZONE
TZID:Europe/London
TZURL:http://tzurl.org/zoneinfo/Europe/London
X-LIC-LOCATION:Europe/London
BEGIN:DAYLIGHT
TZOFFSETFROM:+0000
TZOFFSETTO:+0100
TZNAME:BST
DTSTART:20250330T020000Z
RRULE:FREQ=YEARLY;BYMONTH=3;BYDAY=-1SU
END:DAYLIGHT
BEGIN:STANDARD
TZOFFSETFROM:+0100
TZOFFSETTO:+0000
TZNAME:GMT
DTSTART:20251026T020000Z
RRULE:FREQ=YEARLY;BYMONTH=10;BYDAY=-1SU
END:STANDARD
END:VTIMEZONE
BEGIN:VTIMEZONE
TZID:Europe/London
TZURL:http://tzurl.org/zoneinfo/Europe/London
X-LIC-LOCATION:Europe/London
BEGIN:DAYLIGHT
TZOFFSETFROM:+0000
TZOFFSETTO:+0100
TZNAME:BST
DTSTART:20240331T020000Z
RRULE:FREQ=YEARLY;BYMONTH=3;BYDAY=-1SU
END:DAYLIGHT
BEGIN:STANDARD
TZOFFSETFROM:+0100
TZOFFSETTO:+0000
TZNAME:GMT
DTSTART:20241027T020000Z
RRULE:FREQ=YEARLY;BYMONTH=10;BYDAY=-1SU
END:STANDARD
END:VTIMEZONE
BEGIN:VTIMEZONE
TZID:Europe/London
TZURL:http://tzurl.org/zoneinfo/Europe/London
X-LIC-LOCATION:Europe/London
BEGIN:DAYLIGHT
TZOFFSETFROM:+0000
TZOFFSETTO:+0100
TZNAME:BST
DTSTART:20230326T020000Z
RRULE:FREQ=YEARLY;BYMONTH=3;BYDAY=-1SU
END:DAYLIGHT
BEGIN:STANDARD
TZOFFSETFROM:+0100
TZOFFSETTO:+0000
TZNAME:GMT
DTSTART:20231029T020000Z
RRULE:FREQ=YEARLY;BYMONTH=10;BYDAY=-1SU
END:STANDARD
END:VTIMEZONE
BEGIN:VTIMEZONE
TZID:Europe/London
TZURL:http://tzurl.org/zoneinfo/Europe/London
X-LIC-LOCATION:Europe/London
BEGIN:DAYLIGHT
TZOFFSETFROM:+0000
TZOFFSETTO:+0100
TZNAME:BST
DTSTART:20210328T020000Z
RRULE:FREQ=YEARLY;BYMONTH=3;BYDAY=-1SU
END:DAYLIGHT
BEGIN:STANDARD
TZOFFSETFROM:+0100
TZOFFSETTO:+0000
TZNAME:GMT
DTSTART:20211031T020000Z
RRULE:FREQ=YEARLY;BYMONTH=10;BYDAY=-1SU
END:STANDARD
END:VTIMEZONE
BEGIN:VTIMEZONE
TZID:Europe/London
TZURL:http://tzurl.org/zoneinfo/Europe/London
X-LIC-LOCATION:Europe/London
BEGIN:DAYLIGHT
TZOFFSETFROM:+0000
TZOFFSETTO:+0100
TZNAME:BST
DTSTART:20220327T020000Z
RRULE:FREQ=YEARLY;BYMONTH=3;BYDAY=-1SU
END:DAYLIGHT
BEGIN:STANDARD
TZOFFSETFROM:+0100
TZOFFSETTO:+0000
TZNAME:GMT
DTSTART:20221030T020000Z
RRULE:FREQ=YEARLY;BYMONTH=10;BYDAY=-1SU
END:STANDARD
END:VTIMEZONE
BEGIN:VEVENT
SUMMARY:2026 Forum Palm Springs Gathering
DTSTAMP:20260330T002724Z
SEQUENCE:0
UID:56-1-16ae68a57a2b78972433682341f2a92a@www.companyofmen.org
ORGANIZER;CN="mike carey":moderators@companyofmen.org
DESCRIPTION:\n	The traditional April forum gathering in Palm Springs wil
	l be held over the weekend of 11-12 April 2026. It is an opportunity for f
	orum member and their friends - escorts\, clients\, and others  - to meet
	 for a relaxed weekend of socialising with like minded gentlemen\, and per
	haps as many do\, extend their stay either side of the weekend. There are 
	two organised events\, an evening dinner on Saturday\, and a pool party on
	 Sunday\, and ample opportunities for other activities and meetings those 
	attending might choose to arrange. An informal gathering on Friday afterno
	on is also planned\, with @purplekow offering to host. There is a thread 
	in the Lounge\, 'Palm Springs Friday before the Meeting in April'\, discus
	sing it further. @Oliver is the prime organiser of the formal event\, as
	sisted by @sam.fitzpatrick and @nate_sf. Further details are available in
	 threads\, also posted in the Lounge.\n\n
DTSTART;VALUE=DATE:20260411
DTEND;VALUE=DATE:20260413
END:VEVENT
BEGIN:VEVENT
SUMMARY:Muscle Wrestling Match In Alberta\, Canada
DTSTAMP:20250821T172858Z
SEQUENCE:0
UID:53-1-16ae68a57a2b78972433682341f2a92a@www.companyofmen.org
ORGANIZER;CN="Ryan_Khristopher":moderators@companyofmen.org
DESCRIPTION:\n	Looking For Muscular Men In Alberta\, Canada Who's Intere
	sted In Muscle Wrestling Match. Message Me If You Wanna Participate Or Wat
	ch. \n\n\n
DTSTART;VALUE=DATE:20250823
DTEND;VALUE=DATE:20250825
END:VEVENT
BEGIN:VEVENT
SUMMARY:Folsom Street Fair
DTSTAMP:20240827T204851Z
SEQUENCE:0
UID:34-1-16ae68a57a2b78972433682341f2a92a@www.companyofmen.org
ORGANIZER;CN="Milo Janus":moderators@companyofmen.org
DESCRIPTION:\n	Sunday\, September 29\, 2024\, starts San Francisco's Fol
	som Street Leather and Bondage Fair in San Francisco culminating at the fa
	ir on September 28\, 2024.  Have fun!\n\n
DTSTART;VALUE=DATE:20240929
END:VEVENT
BEGIN:VEVENT
SUMMARY:2023 Palm Springs Weekend
DTSTAMP:20221014T042337Z
SEQUENCE:0
UID:11-1-16ae68a57a2b78972433682341f2a92a@www.companyofmen.org
ORGANIZER;CN="RadioRob":moderators@companyofmen.org
DESCRIPTION:\n	For those who like to plan ahead – mark your calendars 
	for Saturday (dinner)\, April 15 - Sunday (pool)\, April 16 and Monday (br
	eakfast)\, April 17.  I hope to see many of you there.  And those of y
	ou who said “I’ll go next year” – it’s next year!😄😏\n\n\n
	\n	Details can be found in the following topic:\n\n\n\n\n	 \n\n
DTSTART;VALUE=DATE:20230415
DTEND;VALUE=DATE:20230418
ATTENDEE;CN="mike carey";CUTYPE=INDIVIDUAL;PARTSTAT=ACCEPTED
	:moderators@companyofmen.org
ATTENDEE;CN="RoyE";CUTYPE=INDIVIDUAL;PARTSTAT=ACCEPTED:moder
	ators@companyofmen.org
ATTENDEE;CN="Markyy";CUTYPE=INDIVIDUAL;PARTSTAT=ACCEPTED:mod
	erators@companyofmen.org
END:VEVENT
BEGIN:VEVENT
SUMMARY:Remembering Daddy
DTSTAMP:20220326T183008Z
SEQUENCE:0
UID:7-1-16ae68a57a2b78972433682341f2a92a@www.companyofmen.org
ORGANIZER;CN="RadioRob":moderators@companyofmen.org
DESCRIPTION:\n	We take a moment to remember our fallen leader.  \n\n\n\
	n	Rest In Peace @Guy Fawkes\n\n\n\n	https://www.companyofmen.org/rememberi
	ng-daddy/\n\n
DTSTART;VALUE=DATE:20210326
RRULE:FREQ=YEARLY;INTERVAL=1
END:VEVENT
BEGIN:VEVENT
SUMMARY:PI Forum Closed for Holidays
DTSTAMP:20221119T201108Z
SEQUENCE:0
UID:16-1-16ae68a57a2b78972433682341f2a92a@www.companyofmen.org
ORGANIZER;CN="RadioRob":moderators@companyofmen.org
DESCRIPTION:\n	It's time for our annual Political Issues forum holiday. 
	 This will run from November 23\, 2022 through January 2\, 2023.  \n\n\n
	\n	Enjoy your holiday break!\n\n
DTSTART:20221123T050000Z
DTEND:20230102T050000Z
END:VEVENT
BEGIN:VEVENT
SUMMARY:Palm springs weekend early-bird Pool party is a go! Friday 4
	/8/22
DTSTAMP:20220322T204840Z
SEQUENCE:0
UID:6-1-16ae68a57a2b78972433682341f2a92a@www.companyofmen.org
ORGANIZER;CN="David-SF":moderators@companyofmen.org
DESCRIPTION:\n\n	Greeting gents!!! \n\n\n\n	Once again this year on Apr
	il 8th I will be hosting a get together at my house for any and all of tho
	se that wish to join.\n\n\n\n	Pool is heating up. clothing optional if you
	 like I have towels and sunscreen here \n\n\n\n	I will open the house at 
	1pm and we can wrap around 6:30 or later so the guys that have dinner plan
	s etc can go get ready and nap etc.\n\n\n\n	I will have snacks &amp\; sand
	wiches fruit  some drinks and some booze but if you drink and have a requ
	est please put it in now.\n\n\n\n	I will not be cooking this year as many 
	will have plans to go out.\n\n\n\n	Last PS weekend we planted a tree for D
	addy this year its blooming \n\n\n\n	David-SF\n\n\n\n	Shoot me a message 
	if you need more info.\n\n\n\n	Everyone is welcome no need to RSVP \n\n\n
	\n	415-724-5954\n\n\n\n	Hope to see you there.\n\n\n\n	my address is.\n\n\
	n\n	68445 Terrace Rd Cathedral City CA. 92234 \n\n\n\n	https://goo.gl/map
	s/y4AN8F8gKmXREDSPA\n\n\n\n	 \n\n\n
DTSTART:20220408T200000Z
DTEND:20220409T013000Z
END:VEVENT
BEGIN:VEVENT
SUMMARY:DC Forum Gathering - Canceled
DTSTAMP:20210923T033744Z
SEQUENCE:0
UID:4-1-16ae68a57a2b78972433682341f2a92a@www.companyofmen.org
ORGANIZER;CN="nate_sf":moderators@companyofmen.org
DESCRIPTION:\n	UPDATE: Sorry folks\, it's been canceled as described her
	e:\n\n
DTSTART;VALUE=DATE:20220114
DTEND;VALUE=DATE:20220116
ATTENDEE;CN="nate_sf";CUTYPE=INDIVIDUAL;PARTSTAT=ACCEPTED:mo
	derators@companyofmen.org
ATTENDEE;CN="RadioRob";CUTYPE=INDIVIDUAL;PARTSTAT=ACCEPTED:m
	oderators@companyofmen.org
ATTENDEE;CN="Latex Ken";CUTYPE=INDIVIDUAL;PARTSTAT=ACCEPTED:
	moderators@companyofmen.org
ATTENDEE;CN="purplekow";CUTYPE=INDIVIDUAL;PARTSTAT=ACCEPTED:
	moderators@companyofmen.org
ATTENDEE;CN="MysticMenace";CUTYPE=INDIVIDUAL;PARTSTAT=ACCEPT
	ED:moderators@companyofmen.org
ATTENDEE;CN="keroscenefire";CUTYPE=INDIVIDUAL;PARTSTAT=ACCEP
	TED:moderators@companyofmen.org
END:VEVENT
BEGIN:VEVENT
SUMMARY:Columbus Ohio Gathering
DTSTAMP:20211027T003012Z
SEQUENCE:0
UID:5-1-16ae68a57a2b78972433682341f2a92a@www.companyofmen.org
ORGANIZER;CN="sam.fitzpatrick":moderators@companyofmen.org
DESCRIPTION:\n	Just a casual opportunity for members of this forum in Co
	lumbus\, OH to meet and share a cocktail or two.  \n\n\n\n	Thursday\, No
	vember 18\, 2021 @ 6:30 p.m.  \n\n\n\n	Club Diversity\, 863 S. High Stre
	et\, Columbus\, OH 43206\n\n\n\n	 \n\n
DTSTART:20211118T233000Z
ATTENDEE;CN="sam.fitzpatrick";CUTYPE=INDIVIDUAL;PARTSTAT=ACC
	EPTED:moderators@companyofmen.org
ATTENDEE;CN="Oliver";CUTYPE=INDIVIDUAL;PARTSTAT=ACCEPTED:mod
	erators@companyofmen.org
END:VEVENT
BEGIN:VEVENT
SUMMARY:2022 Palm Springs Weekend
DTSTAMP:20210822T192818Z
SEQUENCE:0
UID:3-1-16ae68a57a2b78972433682341f2a92a@www.companyofmen.org
ORGANIZER;CN="Oliver":moderators@companyofmen.org
DESCRIPTION:\n	19th Annual gathering.  Saturday (9th) early evening din
	ner at local restaurant and Sunday afternoon (1-5 pm) pool event at Oliver
	's condo'\n\n
DTSTART;VALUE=DATE:20220409
DTEND;VALUE=DATE:20220411
END:VEVENT
BEGIN:VEVENT
SUMMARY:Purplekow 69/69 event
DTSTAMP:20210815T151231Z
SEQUENCE:0
UID:2-1-16ae68a57a2b78972433682341f2a92a@www.companyofmen.org
ORGANIZER;CN="purplekow":moderators@companyofmen.org
DESCRIPTION:\n	Following on the heels of the Smurof 50/50 event\, I deci
	ded to have a 69/69 event on the 69th day or my 69th year.  By invitation
	 only\, likely to only include one guest\, perhaps two.  The event will f
	eature\, well it is a 69/69 event\, I do not think further explanation is 
	required.  \n\n
DTSTART;VALUE=DATE:20211024
END:VEVENT
BEGIN:VEVENT
SUMMARY:Smurof's 50 50 day
DTSTAMP:20210804T073853Z
SEQUENCE:0
UID:1-1-16ae68a57a2b78972433682341f2a92a@www.companyofmen.org
ORGANIZER;CN="Smurof":moderators@companyofmen.org
DESCRIPTION:\n	On this day\, Smurof turns 50 years and 50 days old. I'd 
	say young\, but really I'm just testing this seldom visited area of this f
	orum for kicks. \n\n
DTSTART;VALUE=DATE:20210815
END:VEVENT
END:VCALENDAR
